Package: apComplex Version: 2.75.0 Command: /home/biocbuild/R/R/bin/R CMD INSTALL apComplex StartedAt: 2025-09-29 21:04:46 -0000 (Mon, 29 Sep 2025) EndedAt: 2025-09-29 21:05:03 -0000 (Mon, 29 Sep 2025) EllapsedTime: 17.6 seconds RetCode: 0 Status: OK