Package: apComplex Version: 2.77.0 Command: /home/biocbuild/bbs-3.23-bioc/R/bin/R CMD INSTALL apComplex StartedAt: 2025-11-07 15:31:45 -0500 (Fri, 07 Nov 2025) EndedAt: 2025-11-07 15:32:00 -0500 (Fri, 07 Nov 2025) EllapsedTime: 14.7 seconds RetCode: 0 Status: OK