Package: antiProfiles Version: 1.49.0 Command: /home/biocbuild/bbs-3.22-bioc/R/bin/R CMD INSTALL antiProfiles StartedAt: 2025-09-30 15:04:31 -0400 (Tue, 30 Sep 2025) EndedAt: 2025-09-30 15:04:45 -0400 (Tue, 30 Sep 2025) EllapsedTime: 14.2 seconds RetCode: 0 Status: OK