Package: antiProfiles Version: 1.51.0 Command: /Library/Frameworks/R.framework/Resources/bin/R CMD build --keep-empty-dirs --no-resave-data antiProfiles StartedAt: 2025-11-21 15:37:16 -0500 (Fri, 21 Nov 2025) EndedAt: 2025-11-21 15:37:21 -0500 (Fri, 21 Nov 2025) EllapsedTime: 5.1 seconds RetCode: 0 Status: OK PackageFile: antiProfiles_1.51.0.tar.gz PackageFileSize: 110.7 KiB