Package: antiProfiles Version: 1.51.0 Command: rm -rf antiProfiles.buildbin-libdir && mkdir antiProfiles.buildbin-libdir && /Users/biocbuild/BBS/utils/build-universal.sh antiProfiles_1.51.0.tar.gz /Library/Frameworks/R.framework/Resources/bin/R antiProfiles.buildbin-libdir StartedAt: 2025-11-21 23:22:13 -0500 (Fri, 21 Nov 2025) EndedAt: 2025-11-21 23:22:16 -0500 (Fri, 21 Nov 2025) EllapsedTime: 3.1 seconds RetCode: 0 Status: OK PackageFile: antiProfiles_1.51.0.tgz PackageFileSize: 269.7 KiB