Package: anota2seq Version: 1.31.0 Command: /Library/Frameworks/R.framework/Resources/bin/R CMD build --keep-empty-dirs --no-resave-data anota2seq StartedAt: 2025-10-22 15:38:10 -0400 (Wed, 22 Oct 2025) EndedAt: 2025-10-22 15:38:59 -0400 (Wed, 22 Oct 2025) EllapsedTime: 49.6 seconds RetCode: 0 Status: OK PackageFile: anota2seq_1.31.0.tar.gz PackageFileSize: 972.4 KiB