Package: annotatr Version: 1.37.0 Command: /home/biocbuild/bbs-3.23-bioc/R/bin/R CMD INSTALL annotatr StartedAt: 2025-11-03 15:41:25 -0500 (Mon, 03 Nov 2025) EndedAt: 2025-11-03 15:42:08 -0500 (Mon, 03 Nov 2025) EllapsedTime: 43.2 seconds RetCode: 0 Status: OK