Package: annotatr Version: 1.37.0 Command: /home/biocbuild/bbs-3.23-bioc/R/bin/R CMD check --install=check:annotatr.install-out.txt --library=/home/biocbuild/bbs-3.23-bioc/R/site-library --timings annotatr_1.37.0.tar.gz StartedAt: 2025-11-04 20:55:57 -0500 (Tue, 04 Nov 2025) EndedAt: 2025-11-04 20:56:02 -0500 (Tue, 04 Nov 2025) EllapsedTime: 5.0 seconds RetCode: 1 Status: ERROR CheckDir: annotatr.Rcheck Warnings: NA