Package: annotatr Version: 1.35.2 Command: /Library/Frameworks/R.framework/Resources/bin/R CMD check --install=check:annotatr.install-out.txt --library=/Library/Frameworks/R.framework/Resources/library --no-vignettes --timings annotatr_1.35.2.tar.gz StartedAt: 2025-10-14 20:04:57 -0400 (Tue, 14 Oct 2025) EndedAt: 2025-10-14 20:11:42 -0400 (Tue, 14 Oct 2025) EllapsedTime: 404.8 seconds RetCode: 0 Status: OK CheckDir: annotatr.Rcheck Warnings: 0