Package: annotationTools Version: 1.83.0 Command: /home/biocbuild/R/R/bin/R CMD INSTALL annotationTools StartedAt: 2025-09-29 20:43:51 -0000 (Mon, 29 Sep 2025) EndedAt: 2025-09-29 20:43:56 -0000 (Mon, 29 Sep 2025) EllapsedTime: 4.5 seconds RetCode: 0 Status: OK