Package: annotationTools Version: 1.83.0 Command: F:\biocbuild\bbs-3.22-bioc\R\bin\R.exe CMD INSTALL annotationTools StartedAt: 2025-08-14 15:37:28 -0400 (Thu, 14 Aug 2025) EndedAt: 2025-08-14 15:38:27 -0400 (Thu, 14 Aug 2025) EllapsedTime: 58.4 seconds RetCode: 0 Status: OK