Package: annotationTools Version: 1.85.0 Command: /home/biocbuild/bbs-3.23-bioc/R/bin/R CMD check --install=check:annotationTools.install-out.txt --library=/home/biocbuild/bbs-3.23-bioc/R/site-library --timings annotationTools_1.85.0.tar.gz StartedAt: 2025-11-02 20:51:35 -0500 (Sun, 02 Nov 2025) EndedAt: 2025-11-02 20:52:04 -0500 (Sun, 02 Nov 2025) EllapsedTime: 29.0 seconds RetCode: 0 Status: OK CheckDir: annotationTools.Rcheck Warnings: 0