Package: annotationTools Version: 1.85.0 Command: /home/biocbuild/bbs-3.23-bioc/R/bin/R CMD build --keep-empty-dirs --no-resave-data annotationTools StartedAt: 2025-10-31 16:28:36 -0400 (Fri, 31 Oct 2025) EndedAt: 2025-10-31 16:28:45 -0400 (Fri, 31 Oct 2025) EllapsedTime: 9.0 seconds RetCode: 0 Status: OK PackageFile: annotationTools_1.85.0.tar.gz PackageFileSize: 333.9 KiB