Package: annotate Version: 1.87.0 Command: /home/biocbuild/R/R/bin/R CMD check --install=check:annotate.install-out.txt --library=/home/biocbuild/R/R/site-library --no-vignettes --timings annotate_1.87.0.tar.gz StartedAt: 2025-10-03 04:37:07 -0000 (Fri, 03 Oct 2025) EndedAt: 2025-10-03 04:41:50 -0000 (Fri, 03 Oct 2025) EllapsedTime: 282.6 seconds RetCode: 0 Status: OK CheckDir: annotate.Rcheck Warnings: 0