Package: annotate Version: 1.89.0 Command: /home/biocbuild/bbs-3.23-bioc/R/bin/R CMD check --install=check:annotate.install-out.txt --library=/home/biocbuild/bbs-3.23-bioc/R/site-library --timings annotate_1.89.0.tar.gz StartedAt: 2025-11-02 20:50:20 -0500 (Sun, 02 Nov 2025) EndedAt: 2025-11-02 21:04:20 -0500 (Sun, 02 Nov 2025) EllapsedTime: 840.1 seconds RetCode: 1 Status: ERROR CheckDir: annotate.Rcheck Warnings: NA