Package: annotate Version: 1.87.0 Command: /Library/Frameworks/R.framework/Resources/bin/R CMD check --install=check:annotate.install-out.txt --library=/Library/Frameworks/R.framework/Resources/library --no-vignettes --timings annotate_1.87.0.tar.gz StartedAt: 2025-10-03 19:44:42 -0400 (Fri, 03 Oct 2025) EndedAt: 2025-10-03 19:48:19 -0400 (Fri, 03 Oct 2025) EllapsedTime: 217.3 seconds RetCode: 0 Status: OK CheckDir: annotate.Rcheck Warnings: 0