Package: annmap Version: 1.53.0 Command: /home/biocbuild/bbs-3.23-bioc/R/bin/R CMD INSTALL annmap StartedAt: 2025-11-20 15:28:49 -0500 (Thu, 20 Nov 2025) EndedAt: 2025-11-20 15:29:11 -0500 (Thu, 20 Nov 2025) EllapsedTime: 22.4 seconds RetCode: 0 Status: OK