Package: annmap Version: 1.53.0 Command: /home/biocbuild/bbs-3.23-bioc/R/bin/R CMD build --keep-empty-dirs --no-resave-data annmap StartedAt: 2025-11-20 16:11:06 -0500 (Thu, 20 Nov 2025) EndedAt: 2025-11-20 16:11:40 -0500 (Thu, 20 Nov 2025) EllapsedTime: 34.0 seconds RetCode: 0 Status: OK PackageFile: annmap_1.53.0.tar.gz PackageFileSize: 1.005 MiB