Package: annmap Version: 1.53.0 Command: /Library/Frameworks/R.framework/Resources/bin/R CMD INSTALL annmap StartedAt: 2025-11-20 15:30:31 -0500 (Thu, 20 Nov 2025) EndedAt: 2025-11-20 15:31:02 -0500 (Thu, 20 Nov 2025) EllapsedTime: 31.1 seconds RetCode: 0 Status: OK