Package: annmap Version: 1.53.0 Command: /Library/Frameworks/R.framework/Resources/bin/R CMD build --keep-empty-dirs --no-resave-data annmap StartedAt: 2025-11-20 16:04:26 -0500 (Thu, 20 Nov 2025) EndedAt: 2025-11-20 16:05:07 -0500 (Thu, 20 Nov 2025) EllapsedTime: 41.2 seconds RetCode: 0 Status: OK PackageFile: annmap_1.53.0.tar.gz PackageFileSize: 1.004 MiB