Package: annmap Version: 1.53.0 Command: rm -rf annmap.buildbin-libdir && mkdir annmap.buildbin-libdir && /Users/biocbuild/BBS/utils/build-universal.sh annmap_1.53.0.tar.gz /Library/Frameworks/R.framework/Resources/bin/R annmap.buildbin-libdir StartedAt: 2025-11-21 01:21:14 -0500 (Fri, 21 Nov 2025) EndedAt: 2025-11-21 01:21:49 -0500 (Fri, 21 Nov 2025) EllapsedTime: 35.8 seconds RetCode: 0 Status: OK PackageFile: annmap_1.53.0.tgz PackageFileSize: 1.286 MiB