Package: annmap Version: 1.51.0 Command: /Library/Frameworks/R.framework/Resources/bin/R CMD INSTALL annmap StartedAt: 2025-10-16 15:23:25 -0400 (Thu, 16 Oct 2025) EndedAt: 2025-10-16 15:23:34 -0400 (Thu, 16 Oct 2025) EllapsedTime: 8.5 seconds RetCode: 0 Status: OK