Package: annmap Version: 1.51.0 Command: /Library/Frameworks/R.framework/Resources/bin/R CMD build --keep-empty-dirs --no-resave-data annmap StartedAt: 2025-10-16 15:49:41 -0400 (Thu, 16 Oct 2025) EndedAt: 2025-10-16 15:49:58 -0400 (Thu, 16 Oct 2025) EllapsedTime: 16.2 seconds RetCode: 0 Status: OK PackageFile: annmap_1.51.0.tar.gz PackageFileSize: 1.005 MiB