Package: anndataR Version: 1.1.0 Command: /Library/Frameworks/R.framework/Resources/bin/R CMD INSTALL anndataR StartedAt: 2025-11-20 15:17:54 -0500 (Thu, 20 Nov 2025) EndedAt: 2025-11-20 15:18:21 -0500 (Thu, 20 Nov 2025) EllapsedTime: 27.0 seconds RetCode: 0 Status: OK