Package: anndataR Version: 1.1.0 Command: /Library/Frameworks/R.framework/Resources/bin/R CMD build --keep-empty-dirs --no-resave-data anndataR StartedAt: 2025-11-20 16:04:19 -0500 (Thu, 20 Nov 2025) EndedAt: 2025-11-20 16:07:48 -0500 (Thu, 20 Nov 2025) EllapsedTime: 209.5 seconds RetCode: 0 Status: OK PackageFile: anndataR_1.1.0.tar.gz PackageFileSize: 2.093 MiB