Package: anndataR Version: 1.1.0 Command: rm -rf anndataR.buildbin-libdir && mkdir anndataR.buildbin-libdir && /Users/biocbuild/BBS/utils/build-universal.sh anndataR_1.1.0.tar.gz /Library/Frameworks/R.framework/Resources/bin/R anndataR.buildbin-libdir StartedAt: 2025-11-21 01:21:13 -0500 (Fri, 21 Nov 2025) EndedAt: 2025-11-21 01:21:31 -0500 (Fri, 21 Nov 2025) EllapsedTime: 18.3 seconds RetCode: 0 Status: OK PackageFile: anndataR_1.1.0.tgz PackageFileSize: 2.426 MiB