Package: anndataR Version: 1.1.0 Command: /Library/Frameworks/R.framework/Resources/bin/R CMD INSTALL anndataR StartedAt: 2025-11-20 15:06:17 -0500 (Thu, 20 Nov 2025) EndedAt: 2025-11-20 15:06:25 -0500 (Thu, 20 Nov 2025) EllapsedTime: 8.2 seconds RetCode: 0 Status: OK