Package: anndataR Version: 1.1.0 Command: /Library/Frameworks/R.framework/Resources/bin/R CMD check --install=check:anndataR.install-out.txt --library=/Library/Frameworks/R.framework/Resources/library --no-vignettes --timings anndataR_1.1.0.tar.gz StartedAt: 2025-11-23 18:28:11 -0500 (Sun, 23 Nov 2025) EndedAt: 2025-11-23 18:36:12 -0500 (Sun, 23 Nov 2025) EllapsedTime: 481.2 seconds RetCode: 0 Status: OK CheckDir: anndataR.Rcheck Warnings: 0