Package: anndataR Version: 1.1.0 Command: /Library/Frameworks/R.framework/Resources/bin/R CMD build --keep-empty-dirs --no-resave-data anndataR StartedAt: 2025-11-20 15:36:57 -0500 (Thu, 20 Nov 2025) EndedAt: 2025-11-20 15:38:06 -0500 (Thu, 20 Nov 2025) EllapsedTime: 68.8 seconds RetCode: 0 Status: OK PackageFile: anndataR_1.1.0.tar.gz PackageFileSize: 2.093 MiB