Package: annaffy Version: 1.83.0 Command: /home/biocbuild/bbs-3.23-bioc/R/bin/R CMD build --keep-empty-dirs --no-resave-data annaffy StartedAt: 2025-10-31 16:27:49 -0400 (Fri, 31 Oct 2025) EndedAt: 2025-10-31 16:28:17 -0400 (Fri, 31 Oct 2025) EllapsedTime: 28.0 seconds RetCode: 0 Status: OK PackageFile: annaffy_1.83.0.tar.gz PackageFileSize: 315.3 KiB