Package: annaffy Version: 1.83.0 Command: /Library/Frameworks/R.framework/Resources/bin/R CMD build --keep-empty-dirs --no-resave-data annaffy StartedAt: 2025-11-20 16:04:18 -0500 (Thu, 20 Nov 2025) EndedAt: 2025-11-20 16:04:51 -0500 (Thu, 20 Nov 2025) EllapsedTime: 33.2 seconds RetCode: 0 Status: OK PackageFile: annaffy_1.83.0.tar.gz PackageFileSize: 314.2 KiB