Package: annaffy Version: 1.83.0 Command: rm -rf annaffy.buildbin-libdir && mkdir annaffy.buildbin-libdir && /Users/biocbuild/BBS/utils/build-universal.sh annaffy_1.83.0.tar.gz /Library/Frameworks/R.framework/Resources/bin/R annaffy.buildbin-libdir StartedAt: 2025-11-21 01:21:12 -0500 (Fri, 21 Nov 2025) EndedAt: 2025-11-21 01:21:39 -0500 (Fri, 21 Nov 2025) EllapsedTime: 26.5 seconds RetCode: 0 Status: OK PackageFile: annaffy_1.83.0.tgz PackageFileSize: 703.1 KiB