Package: annaffy Version: 1.81.0 Command: rm -rf annaffy.buildbin-libdir && mkdir annaffy.buildbin-libdir && /Users/biocbuild/BBS/utils/build-universal.sh annaffy_1.81.0.tar.gz /Library/Frameworks/R.framework/Resources/bin/R annaffy.buildbin-libdir StartedAt: 2025-10-23 23:00:16 -0400 (Thu, 23 Oct 2025) EndedAt: 2025-10-23 23:00:24 -0400 (Thu, 23 Oct 2025) EllapsedTime: 7.2 seconds RetCode: 0 Status: OK PackageFile: annaffy_1.81.0.tgz PackageFileSize: 709.3 KiB