Package: animalcules Version: 1.27.0 Command: /Library/Frameworks/R.framework/Resources/bin/R CMD build --keep-empty-dirs --no-resave-data animalcules StartedAt: 2025-11-21 15:36:45 -0500 (Fri, 21 Nov 2025) EndedAt: 2025-11-21 15:37:12 -0500 (Fri, 21 Nov 2025) EllapsedTime: 26.3 seconds RetCode: 0 Status: OK PackageFile: animalcules_1.27.0.tar.gz PackageFileSize: 3.324 MiB