Package: animalcules Version: 1.27.0 Command: rm -rf animalcules.buildbin-libdir && mkdir animalcules.buildbin-libdir && /Users/biocbuild/BBS/utils/build-universal.sh animalcules_1.27.0.tar.gz /Library/Frameworks/R.framework/Resources/bin/R animalcules.buildbin-libdir StartedAt: 2025-11-21 23:22:04 -0500 (Fri, 21 Nov 2025) EndedAt: 2025-11-21 23:22:21 -0500 (Fri, 21 Nov 2025) EllapsedTime: 17.5 seconds RetCode: 0 Status: OK PackageFile: animalcules_1.27.0.tgz PackageFileSize: 3.493 MiB