Package: anglemania Version: 0.99.6 Command: /home/biocbuild/bbs-3.22-bioc/R/bin/R CMD INSTALL anglemania StartedAt: 2025-10-03 15:21:01 -0400 (Fri, 03 Oct 2025) EndedAt: 2025-10-03 15:21:29 -0400 (Fri, 03 Oct 2025) EllapsedTime: 27.9 seconds RetCode: 0 Status: OK