Package: anglemania Version: 0.99.6 Command: /home/biocbuild/bbs-3.22-bioc/R/bin/R CMD build --keep-empty-dirs --no-resave-data --md5 anglemania StartedAt: 2025-10-03 16:09:13 -0400 (Fri, 03 Oct 2025) EndedAt: 2025-10-03 16:19:17 -0400 (Fri, 03 Oct 2025) EllapsedTime: 603.6 seconds RetCode: 0 Status: OK PackageFile: anglemania_0.99.6.tar.gz PackageFileSize: 4.575 MiB