Package: anglemania Version: 1.1.0 Command: /home/biocbuild/bbs-3.23-bioc/R/bin/R CMD INSTALL anglemania StartedAt: 2025-11-23 15:23:08 -0500 (Sun, 23 Nov 2025) EndedAt: 2025-11-23 15:23:41 -0500 (Sun, 23 Nov 2025) EllapsedTime: 33.2 seconds RetCode: 0 Status: OK