Package: anglemania Version: 1.1.0 Command: /home/biocbuild/bbs-3.23-bioc/R/bin/R CMD build --keep-empty-dirs --no-resave-data anglemania StartedAt: 2025-11-23 16:11:39 -0500 (Sun, 23 Nov 2025) EndedAt: 2025-11-23 16:23:09 -0500 (Sun, 23 Nov 2025) EllapsedTime: 690.6 seconds RetCode: 0 Status: OK PackageFile: anglemania_1.1.0.tar.gz PackageFileSize: 6.813 MiB