Package: anglemania Version: 1.1.0 Command: /Library/Frameworks/R.framework/Resources/bin/R CMD INSTALL anglemania StartedAt: 2025-11-21 15:14:00 -0500 (Fri, 21 Nov 2025) EndedAt: 2025-11-21 15:14:13 -0500 (Fri, 21 Nov 2025) EllapsedTime: 13.0 seconds RetCode: 0 Status: OK