Package: anglemania Version: 1.1.0 Command: /Library/Frameworks/R.framework/Resources/bin/R CMD build --keep-empty-dirs --no-resave-data anglemania StartedAt: 2025-11-21 15:36:43 -0500 (Fri, 21 Nov 2025) EndedAt: 2025-11-21 15:39:30 -0500 (Fri, 21 Nov 2025) EllapsedTime: 167.0 seconds RetCode: 0 Status: OK PackageFile: anglemania_1.1.0.tar.gz PackageFileSize: 7.459 MiB