Package: anglemania Version: 1.1.0 Command: rm -rf anglemania.buildbin-libdir && mkdir anglemania.buildbin-libdir && /Users/biocbuild/BBS/utils/build-universal.sh anglemania_1.1.0.tar.gz /Library/Frameworks/R.framework/Resources/bin/R anglemania.buildbin-libdir StartedAt: 2025-11-21 23:22:02 -0500 (Fri, 21 Nov 2025) EndedAt: 2025-11-21 23:22:20 -0500 (Fri, 21 Nov 2025) EllapsedTime: 17.5 seconds RetCode: 0 Status: OK PackageFile: anglemania_1.1.0.tgz PackageFileSize: 7.562 MiB