Package: anansi Version: 0.99.4 Command: /home/biocbuild/bbs-3.22-bioc/R/bin/R CMD INSTALL anansi StartedAt: 2025-10-27 15:27:21 -0400 (Mon, 27 Oct 2025) EndedAt: 2025-10-27 15:27:57 -0400 (Mon, 27 Oct 2025) EllapsedTime: 35.3 seconds RetCode: 0 Status: OK