Package: anansi Version: 1.0.0 Command: /home/biocbuild/bbs-3.22-bioc/R/bin/R CMD check --install=check:anansi.install-out.txt --library=/home/biocbuild/bbs-3.22-bioc/R/site-library --timings anansi_1.0.0.tar.gz StartedAt: 2025-10-30 03:25:14 -0400 (Thu, 30 Oct 2025) EndedAt: 2025-10-30 03:30:38 -0400 (Thu, 30 Oct 2025) EllapsedTime: 323.4 seconds RetCode: 0 Status: OK CheckDir: anansi.Rcheck Warnings: 0