Package: anansi Version: 0.99.4 Command: /Library/Frameworks/R.framework/Resources/bin/R CMD INSTALL anansi StartedAt: 2025-10-27 15:15:12 -0400 (Mon, 27 Oct 2025) EndedAt: 2025-10-27 15:15:27 -0400 (Mon, 27 Oct 2025) EllapsedTime: 14.8 seconds RetCode: 0 Status: OK