Package: anansi Version: 0.99.4 Command: /Library/Frameworks/R.framework/Resources/bin/R CMD build --keep-empty-dirs --no-resave-data anansi StartedAt: 2025-10-27 15:37:02 -0400 (Mon, 27 Oct 2025) EndedAt: 2025-10-27 15:37:30 -0400 (Mon, 27 Oct 2025) EllapsedTime: 28.3 seconds RetCode: 0 Status: OK PackageFile: anansi_0.99.4.tar.gz PackageFileSize: 4.366 MiB