Package: anansi Version: 0.99.4 Maintainer: Thomaz Bastiaanssen MaintainerEmail: thomazbastiaanssen at gmail.com git_url: https://git.bioconductor.org/packages/anansi git_branch: devel git_last_commit: 369b937 git_last_commit_date: 2025-10-10 13:49:55 -0400 (Fri, 10 Oct 2025)