Package: amplican Version: 1.33.0 Command: /home/biocbuild/bbs-3.23-bioc/R/bin/R CMD INSTALL amplican StartedAt: 2025-11-03 16:06:31 -0500 (Mon, 03 Nov 2025) EndedAt: 2025-11-03 16:06:32 -0500 (Mon, 03 Nov 2025) EllapsedTime: 0.2 seconds RetCode: 1 Status: ERROR