Package: amplican Version: 1.33.0 Command: /home/biocbuild/bbs-3.23-bioc/R/bin/R CMD build --keep-empty-dirs --no-resave-data amplican StartedAt: 2025-11-03 16:09:45 -0500 (Mon, 03 Nov 2025) EndedAt: 2025-11-03 16:09:46 -0500 (Mon, 03 Nov 2025) EllapsedTime: 1.0 seconds RetCode: 1 Status: ERROR PackageFile: None PackageFileSize: NA