Package: amplican Version: 1.31.2 Command: /Library/Frameworks/R.framework/Resources/bin/R CMD build --keep-empty-dirs --no-resave-data amplican StartedAt: 2025-10-15 16:00:29 -0400 (Wed, 15 Oct 2025) EndedAt: 2025-10-15 16:00:32 -0400 (Wed, 15 Oct 2025) EllapsedTime: 2.3 seconds RetCode: 1 Status: ERROR PackageFile: None PackageFileSize: NA